BEGIN:VCALENDAR
VERSION:2.0
PRODID:-//Music Of Stylo - ECPv6.15.11//NONSGML v1.0//EN
CALSCALE:GREGORIAN
METHOD:PUBLISH
X-WR-CALNAME:Music Of Stylo
X-ORIGINAL-URL:https://www.musicofstylo.com
X-WR-CALDESC:Events for Music Of Stylo
REFRESH-INTERVAL;VALUE=DURATION:PT1H
X-Robots-Tag:noindex
X-PUBLISHED-TTL:PT1H
BEGIN:VTIMEZONE
TZID:America/New_York
BEGIN:DAYLIGHT
TZOFFSETFROM:-0500
TZOFFSETTO:-0400
TZNAME:EDT
DTSTART:20170312T070000
END:DAYLIGHT
BEGIN:STANDARD
TZOFFSETFROM:-0400
TZOFFSETTO:-0500
TZNAME:EST
DTSTART:20171105T060000
END:STANDARD
BEGIN:DAYLIGHT
TZOFFSETFROM:-0500
TZOFFSETTO:-0400
TZNAME:EDT
DTSTART:20180311T070000
END:DAYLIGHT
BEGIN:STANDARD
TZOFFSETFROM:-0400
TZOFFSETTO:-0500
TZNAME:EST
DTSTART:20181104T060000
END:STANDARD
BEGIN:DAYLIGHT
TZOFFSETFROM:-0500
TZOFFSETTO:-0400
TZNAME:EDT
DTSTART:20190310T070000
END:DAYLIGHT
BEGIN:STANDARD
TZOFFSETFROM:-0400
TZOFFSETTO:-0500
TZNAME:EST
DTSTART:20191103T060000
END:STANDARD
BEGIN:DAYLIGHT
TZOFFSETFROM:-0500
TZOFFSETTO:-0400
TZNAME:EDT
DTSTART:20200308T070000
END:DAYLIGHT
BEGIN:STANDARD
TZOFFSETFROM:-0400
TZOFFSETTO:-0500
TZNAME:EST
DTSTART:20201101T060000
END:STANDARD
END:VTIMEZONE
BEGIN:VEVENT
DTSTART;TZID=America/New_York:20190825T000000
DTEND;TZID=America/New_York:20190825T050000
DTSTAMP:20260423T202513
CREATED:20190813T191130Z
LAST-MODIFIED:20190814T165910Z
UID:1607-1566691200-1566709200@www.musicofstylo.com
SUMMARY:The Audio Infusion
DESCRIPTION:I have been given the privileged to do a Lo-Fi mix for the iconic The Audio Infusion show of Morgan State’s WEAA. \n\n\n\nTune in overnight August 24 into August 25.  \n\n\n\nIf in the the Baltimore broadcast area tune to  88.9FM at midnight. \n\n\n\nIf outside the area\, stream the broadcast via  https://www.weaa.org/   \n\n\n\nPhoto by Ryan Stefan on Unsplash
URL:https://www.musicofstylo.com/event/the-audio-infusion/
CATEGORIES:DJ Set
ATTACH;FMTTYPE=image/png:https://www.musicofstylo.com/wp-content/uploads/2019/08/audio-infusion-2019-08-24-slider-16x9.png
END:VEVENT
BEGIN:VEVENT
DTSTART;TZID=America/New_York:20180310T210000
DTEND;TZID=America/New_York:20180311T010000
DTSTAMP:20260423T202513
CREATED:20180219T232604Z
LAST-MODIFIED:20180219T232604Z
UID:878-1520715600-1520730000@www.musicofstylo.com
SUMMARY:House Of Spice :: One
DESCRIPTION:
URL:https://www.musicofstylo.com/event/house-of-spice-one/
LOCATION:Mayuree Thai Tavern\, 2318 Fleet St\, Baltimore\, MD\, 21224\, United States
CATEGORIES:DJ Set
ATTACH;FMTTYPE=image/png:https://www.musicofstylo.com/wp-content/uploads/2018/02/house-of-spice-2-slider-16x9-1.png
END:VEVENT
BEGIN:VEVENT
DTSTART;TZID=America/New_York:20180224T210000
DTEND;TZID=America/New_York:20180225T020000
DTSTAMP:20260423T202513
CREATED:20180219T231457Z
LAST-MODIFIED:20180219T231457Z
UID:874-1519506000-1519524000@www.musicofstylo.com
SUMMARY:Butter
DESCRIPTION:
URL:https://www.musicofstylo.com/event/butter/
LOCATION:Ottobar\, 2549 N Howard St\, Baltimore\, MD\, 21218\, United States
CATEGORIES:DJ Set
ATTACH;FMTTYPE=image/png:https://www.musicofstylo.com/wp-content/uploads/2018/02/butter-2018-02-24-slider-1.png
END:VEVENT
END:VCALENDAR