BEGIN:VCALENDAR
VERSION:2.0
PRODID:-//Music Of Stylo - ECPv6.15.11//NONSGML v1.0//EN
CALSCALE:GREGORIAN
METHOD:PUBLISH
X-ORIGINAL-URL:https://www.musicofstylo.com
X-WR-CALDESC:Events for Music Of Stylo
REFRESH-INTERVAL;VALUE=DURATION:PT1H
X-Robots-Tag:noindex
X-PUBLISHED-TTL:PT1H
BEGIN:VTIMEZONE
TZID:America/New_York
BEGIN:DAYLIGHT
TZOFFSETFROM:-0500
TZOFFSETTO:-0400
TZNAME:EDT
DTSTART:20170312T070000
END:DAYLIGHT
BEGIN:STANDARD
TZOFFSETFROM:-0400
TZOFFSETTO:-0500
TZNAME:EST
DTSTART:20171105T060000
END:STANDARD
BEGIN:DAYLIGHT
TZOFFSETFROM:-0500
TZOFFSETTO:-0400
TZNAME:EDT
DTSTART:20180311T070000
END:DAYLIGHT
BEGIN:STANDARD
TZOFFSETFROM:-0400
TZOFFSETTO:-0500
TZNAME:EST
DTSTART:20181104T060000
END:STANDARD
BEGIN:DAYLIGHT
TZOFFSETFROM:-0500
TZOFFSETTO:-0400
TZNAME:EDT
DTSTART:20190310T070000
END:DAYLIGHT
BEGIN:STANDARD
TZOFFSETFROM:-0400
TZOFFSETTO:-0500
TZNAME:EST
DTSTART:20191103T060000
END:STANDARD
END:VTIMEZONE
BEGIN:VEVENT
DTSTART;TZID=America/New_York:20181229T210000
DTEND;TZID=America/New_York:20181230T020000
DTSTAMP:20260423T202937
CREATED:20181210T033507Z
LAST-MODIFIED:20181210T033507Z
UID:1183-1546117200-1546135200@www.musicofstylo.com
SUMMARY:Butter - Anniversary Edition
DESCRIPTION:DJ sets by Afropino and Stylo.\nCelebratory Giveaways\nFree entry / 21+ (w/ valid ID)\n\n\n[supsystic-gallery id=4 position=center]
URL:https://www.musicofstylo.com/event/butter-anniversary-edition/
LOCATION:Ottobar\, 2549 N Howard St\, Baltimore\, MD\, 21218\, United States
CATEGORIES:DJ Set + Live Performance
ATTACH;FMTTYPE=image/png:https://www.musicofstylo.com/wp-content/uploads/2018/12/butter-1st-anni-edited.png
END:VEVENT
END:VCALENDAR